BEGIN:VCALENDAR
VERSION:2.0
PRODID:-//Interplay Orchestra - ECPv6.15.11//NONSGML v1.0//EN
CALSCALE:GREGORIAN
METHOD:PUBLISH
X-ORIGINAL-URL:https://www.interplayorchestra.org
X-WR-CALDESC:Events for Interplay Orchestra
REFRESH-INTERVAL;VALUE=DURATION:PT1H
X-Robots-Tag:noindex
X-PUBLISHED-TTL:PT1H
BEGIN:VTIMEZONE
TZID:America/New_York
BEGIN:DAYLIGHT
TZOFFSETFROM:-0500
TZOFFSETTO:-0400
TZNAME:EDT
DTSTART:20250309T070000
END:DAYLIGHT
BEGIN:STANDARD
TZOFFSETFROM:-0400
TZOFFSETTO:-0500
TZNAME:EST
DTSTART:20251102T060000
END:STANDARD
BEGIN:DAYLIGHT
TZOFFSETFROM:-0500
TZOFFSETTO:-0400
TZNAME:EDT
DTSTART:20260308T070000
END:DAYLIGHT
BEGIN:STANDARD
TZOFFSETFROM:-0400
TZOFFSETTO:-0500
TZNAME:EST
DTSTART:20261101T060000
END:STANDARD
BEGIN:DAYLIGHT
TZOFFSETFROM:-0500
TZOFFSETTO:-0400
TZNAME:EDT
DTSTART:20270314T070000
END:DAYLIGHT
BEGIN:STANDARD
TZOFFSETFROM:-0400
TZOFFSETTO:-0500
TZNAME:EST
DTSTART:20271107T060000
END:STANDARD
END:VTIMEZONE
BEGIN:VEVENT
DTSTART;TZID=America/New_York:20260518T193000
DTEND;TZID=America/New_York:20260518T210000
DTSTAMP:20260425T091114
CREATED:20260407T235119Z
LAST-MODIFIED:20260424T195000Z
UID:930-1779132600-1779138000@www.interplayorchestra.org
SUMMARY:Interplay Orchestra Presents - TIME OF OUR LIVES - POSTPONED
DESCRIPTION:Our May 18th concert is being postponed to a future date.\nPlease check back for the new performance date!\n  \n 
URL:https://www.interplayorchestra.org/event/interplay-orchestra-presents-time-of-our-lives/
LOCATION:F. Scott Fitzgerald Theater\, 603 Edmonston Dr.\, Rockville\, Maryland
END:VEVENT
END:VCALENDAR